BEGIN:VCALENDAR
VERSION:2.0
PRODID:-//BLUESTONE Bluegrass - ECPv6.15.20//NONSGML v1.0//EN
CALSCALE:GREGORIAN
METHOD:PUBLISH
X-ORIGINAL-URL:https://bluestonebluegrass.com
X-WR-CALDESC:Events for BLUESTONE Bluegrass
REFRESH-INTERVAL;VALUE=DURATION:PT1H
X-Robots-Tag:noindex
X-PUBLISHED-TTL:PT1H
BEGIN:VTIMEZONE
TZID:UTC
BEGIN:STANDARD
TZOFFSETFROM:+0000
TZOFFSETTO:+0000
TZNAME:UTC
DTSTART:20250101T000000
END:STANDARD
END:VTIMEZONE
BEGIN:VEVENT
DTSTART;TZID=UTC:20260502T150000
DTEND;TZID=UTC:20260502T193000
DTSTAMP:20260424T160635
CREATED:20260311T233939Z
LAST-MODIFIED:20260322T182838Z
UID:715-1777734000-1777750200@bluestonebluegrass.com
SUMMARY:Perryhall-Kingsville Lions Club Fundraiser at the Klausmeier Farm  Kentucky Derby Day
DESCRIPTION:This is a fundraiser for the Perryhall-Kingsvillw Lions Club.  Ticket price includes food\, ice cream and entertainment.  Drinks available for purchase.  Good times with good people for a great cause.
URL:https://bluestonebluegrass.com/?tribe_events=perryhall-kingsville-lions-club-fundraiser-at-the-klausmeier-farm-kentucky-derby-day
LOCATION:Klausmeier Farm\, 4014 Perry Hall Road\, Perry Hall\, Maryland\, 21128
END:VEVENT
BEGIN:VEVENT
DTSTART;TZID=UTC:20260613T130000
DTEND;TZID=UTC:20260613T170000
DTSTAMP:20260424T160635
CREATED:20260311T235221Z
LAST-MODIFIED:20260322T183253Z
UID:718-1781355600-1781370000@bluestonebluegrass.com
SUMMARY:SMBA Summer Concert Series @ Wild Country Farms in Lewisberry\, Pa
DESCRIPTION:This is the perfect setting to come and listen to bluegrass.  All proceeds go to the band.  This is also to support a 50+ year old organization that helps support local bluegrass- Seven Mountains Bluegrass Association.
URL:https://bluestonebluegrass.com/?tribe_events=smba-summer-concert-series-wild-country-farms-in-lewisberry-pa
LOCATION:Wild Country Farms\, 940 Parks Road\, Lewisberry\, Pa\, 17339
END:VEVENT
BEGIN:VEVENT
DTSTART;TZID=UTC:20260815T180000
DTEND;TZID=UTC:20260815T200000
DTSTAMP:20260424T160635
CREATED:20260312T000441Z
LAST-MODIFIED:20260322T180438Z
UID:727-1786816800-1786824000@bluestonebluegrass.com
SUMMARY:Dover Old Tyme Days and Tractor Pulls
DESCRIPTION:Music is back for this event. Come spend a quaint evening with us. Friday and Saturday- Food Trucks\,  Craft Show\, Vendors\, Tractor Pulls\, Hay Rides\, Kids Games and Stermers will be doing the Auctioning.
URL:https://bluestonebluegrass.com/?tribe_events=dover-old-tyme-days-and-tractor-pulls
LOCATION:Dover Old Tyme Days\, 700 East Canal Road\, Dover\, Pa\, 17315
END:VEVENT
BEGIN:VEVENT
DTSTART;TZID=UTC:20260912T200000
DTEND;TZID=UTC:20260912T223000
DTSTAMP:20260424T160635
CREATED:20260312T230334Z
LAST-MODIFIED:20260322T182210Z
UID:771-1789243200-1789252200@bluestonebluegrass.com
SUMMARY:Rob's Bluegrass Barn
DESCRIPTION:It has been a couple of years since we have been to the barn.  One of our favorite places to play.  Rob Miller and is constituents spend a lot of time through the summer promoting bluegrass.
URL:https://bluestonebluegrass.com/?tribe_events=robs-bluegrass-barn-2
LOCATION:Rob’s Barn\, 821 View Road\, Westminster\, Maryland\, 21158
END:VEVENT
END:VCALENDAR